BEGIN:VCALENDAR
VERSION:2.0
PRODID:-//澳亞基督教會 Austral-Asian Christian Church - ECPv5.8.2//NONSGML v1.0//EN
CALSCALE:GREGORIAN
METHOD:PUBLISH
X-WR-CALNAME:澳亞基督教會 Austral-Asian Christian Church
X-ORIGINAL-URL:https://www.aaccsa.org.au
X-WR-CALDESC:Events for 澳亞基督教會 Austral-Asian Christian Church
BEGIN:VTIMEZONE
TZID:Australia/Adelaide
BEGIN:STANDARD
TZOFFSETFROM:+1030
TZOFFSETTO:+0930
TZNAME:ACST
DTSTART:20170401T163000
END:STANDARD
BEGIN:DAYLIGHT
TZOFFSETFROM:+0930
TZOFFSETTO:+1030
TZNAME:ACDT
DTSTART:20170930T163000
END:DAYLIGHT
END:VTIMEZONE
BEGIN:VEVENT
DTSTART;TZID=Australia/Adelaide:20170313T103000
DTEND;TZID=Australia/Adelaide:20170313T103000
DTSTAMP:20260426T125809
CREATED:20170124T010125Z
LAST-MODIFIED:20170124T010125Z
UID:1483-1489401000-1489401000@www.aaccsa.org.au
SUMMARY:澳亞基督教會2017大旅行
DESCRIPTION:
URL:https://www.aaccsa.org.au/event/%e6%be%b3%e4%ba%9e%e5%9f%ba%e7%9d%a3%e6%95%99%e6%9c%832017%e5%a4%a7%e6%97%85%e8%a1%8c
LOCATION:Bonython Park\, Port Road\, Adelaide\, SA\, 澳大利亞
END:VEVENT
END:VCALENDAR