BEGIN:VCALENDAR
VERSION:2.0
PRODID:-//澳亞基督教會 Austral-Asian Christian Church - ECPv5.8.2//NONSGML v1.0//EN
CALSCALE:GREGORIAN
METHOD:PUBLISH
X-WR-CALNAME:澳亞基督教會 Austral-Asian Christian Church
X-ORIGINAL-URL:https://www.aaccsa.org.au
X-WR-CALDESC:Events for 澳亞基督教會 Austral-Asian Christian Church
BEGIN:VTIMEZONE
TZID:Australia/Adelaide
BEGIN:STANDARD
TZOFFSETFROM:+1030
TZOFFSETTO:+0930
TZNAME:ACST
DTSTART:20170401T163000
END:STANDARD
BEGIN:DAYLIGHT
TZOFFSETFROM:+0930
TZOFFSETTO:+1030
TZNAME:ACDT
DTSTART:20170930T163000
END:DAYLIGHT
END:VTIMEZONE
BEGIN:VEVENT
DTSTART;VALUE=DATE:20170513
DTEND;VALUE=DATE:20170515
DTSTAMP:20260426T111502
CREATED:20161225T000848Z
LAST-MODIFIED:20170420T011932Z
UID:1449-1494633600-1494806399@www.aaccsa.org.au
SUMMARY:2017粵語聖經講座 - 約書亞記
DESCRIPTION:
URL:https://www.aaccsa.org.au/event/2017%e7%b2%b5%e8%aa%9e%e8%81%96%e7%b6%93%e8%ac%9b%e5%ba%a7-%e7%b4%84%e6%9b%b8%e4%ba%9e%e8%a8%98
ATTACH;FMTTYPE=image/jpeg:https://www.aaccsa.org.au/assets/uploads/2016/12/2017-05-13-bible-course.jpg
END:VEVENT
END:VCALENDAR