BEGIN:VCALENDAR
VERSION:2.0
PRODID:-//澳亞基督教會 Austral-Asian Christian Church - ECPv5.8.2//NONSGML v1.0//EN
CALSCALE:GREGORIAN
METHOD:PUBLISH
X-WR-CALNAME:澳亞基督教會 Austral-Asian Christian Church
X-ORIGINAL-URL:https://www.aaccsa.org.au
X-WR-CALDESC:Events for 澳亞基督教會 Austral-Asian Christian Church
BEGIN:VTIMEZONE
TZID:Australia/Adelaide
BEGIN:STANDARD
TZOFFSETFROM:+1030
TZOFFSETTO:+0930
TZNAME:ACST
DTSTART:20170401T163000
END:STANDARD
BEGIN:DAYLIGHT
TZOFFSETFROM:+0930
TZOFFSETTO:+1030
TZNAME:ACDT
DTSTART:20170930T163000
END:DAYLIGHT
END:VTIMEZONE
BEGIN:VEVENT
DTSTART;TZID=Australia/Adelaide:20170617T193000
DTEND;TZID=Australia/Adelaide:20170617T220000
DTSTAMP:20260426T095216
CREATED:20170420T011837Z
LAST-MODIFIED:20170701T095015Z
UID:1536-1497727800-1497736800@www.aaccsa.org.au
SUMMARY:陳世欽牧師 - 華語奮興會
DESCRIPTION:
URL:https://www.aaccsa.org.au/event/%e9%99%b3%e4%b8%96%e6%ac%bd%e7%89%a7%e5%b8%ab-%e8%8f%af%e8%aa%9e%e5%a5%ae%e8%88%88%e6%9c%83
ATTACH;FMTTYPE=image/jpeg:https://www.aaccsa.org.au/assets/uploads/2017/04/2017-06-Rev-Chen.jpg
END:VEVENT
END:VCALENDAR