BEGIN:VCALENDAR
VERSION:2.0
PRODID:-//澳亞基督教會 Austral-Asian Christian Church - ECPv5.8.2//NONSGML v1.0//EN
CALSCALE:GREGORIAN
METHOD:PUBLISH
X-WR-CALNAME:澳亞基督教會 Austral-Asian Christian Church
X-ORIGINAL-URL:https://www.aaccsa.org.au
X-WR-CALDESC:Events for 澳亞基督教會 Austral-Asian Christian Church
BEGIN:VTIMEZONE
TZID:Australia/Adelaide
BEGIN:STANDARD
TZOFFSETFROM:+1030
TZOFFSETTO:+0930
TZNAME:ACST
DTSTART:20170401T163000
END:STANDARD
BEGIN:DAYLIGHT
TZOFFSETFROM:+0930
TZOFFSETTO:+1030
TZNAME:ACDT
DTSTART:20170930T163000
END:DAYLIGHT
END:VTIMEZONE
BEGIN:VEVENT
DTSTART;TZID=Australia/Adelaide:20170729T140000
DTEND;TZID=Australia/Adelaide:20170729T160000
DTSTAMP:20260426T082657
CREATED:20170701T095245Z
LAST-MODIFIED:20170701T095736Z
UID:1605-1501336800-1501344000@www.aaccsa.org.au
SUMMARY:門徒裝備課程 - 使徒行傳與教會發展史
DESCRIPTION:門徒裝備課程 – 使徒行傳與教會發展史 (核心科) \n導師: 楊坤元傳道\n語言: 華語
URL:https://www.aaccsa.org.au/event/%e9%96%80%e5%be%92%e8%a3%9d%e5%82%99%e8%aa%b2%e7%a8%8b-%e4%bd%bf%e5%be%92%e8%a1%8c%e5%82%b3%e8%88%87%e6%95%99%e6%9c%83%e7%99%bc%e5%b1%95%e5%8f%b2
ATTACH;FMTTYPE=image/jpeg:https://www.aaccsa.org.au/assets/uploads/2017/07/使徒行傳Poster.jpg
END:VEVENT
END:VCALENDAR