BEGIN:VCALENDAR
VERSION:2.0
PRODID:-//澳亞基督教會 Austral-Asian Christian Church - ECPv5.8.2//NONSGML v1.0//EN
CALSCALE:GREGORIAN
METHOD:PUBLISH
X-WR-CALNAME:澳亞基督教會 Austral-Asian Christian Church
X-ORIGINAL-URL:https://www.aaccsa.org.au
X-WR-CALDESC:Events for 澳亞基督教會 Austral-Asian Christian Church
BEGIN:VTIMEZONE
TZID:Australia/Adelaide
BEGIN:STANDARD
TZOFFSETFROM:+1030
TZOFFSETTO:+0930
TZNAME:ACST
DTSTART:20180331T163000
END:STANDARD
BEGIN:DAYLIGHT
TZOFFSETFROM:+0930
TZOFFSETTO:+1030
TZNAME:ACDT
DTSTART:20181006T163000
END:DAYLIGHT
END:VTIMEZONE
BEGIN:VEVENT
DTSTART;TZID=Australia/Adelaide:20180810T190000
DTEND;TZID=Australia/Adelaide:20180810T210000
DTSTAMP:20260425T132041
CREATED:20180718T053256Z
LAST-MODIFIED:20180718T053256Z
UID:1943-1533927600-1533934800@www.aaccsa.org.au
SUMMARY:婚姻中的愛與尊重
DESCRIPTION:婚姻中的愛與尊重\n講員: 屈偉豪博士\n日期: 2018年8月10日 (星期五)\n時間: 晚上7-9時\n地點: 澳亞基督教會 \n 
URL:https://www.aaccsa.org.au/event/%e5%a9%9a%e5%a7%bb%e4%b8%ad%e7%9a%84%e6%84%9b%e8%88%87%e5%b0%8a%e9%87%8d
ATTACH;FMTTYPE=image/jpeg:https://www.aaccsa.org.au/assets/uploads/2018/07/屈偉豪夫婦公開聚會.jpg
END:VEVENT
END:VCALENDAR