BEGIN:VCALENDAR
VERSION:2.0
PRODID:-//澳亞基督教會 Austral-Asian Christian Church - ECPv5.8.2//NONSGML v1.0//EN
CALSCALE:GREGORIAN
METHOD:PUBLISH
X-WR-CALNAME:澳亞基督教會 Austral-Asian Christian Church
X-ORIGINAL-URL:https://www.aaccsa.org.au
X-WR-CALDESC:Events for 澳亞基督教會 Austral-Asian Christian Church
BEGIN:VTIMEZONE
TZID:Australia/Adelaide
BEGIN:STANDARD
TZOFFSETFROM:+1030
TZOFFSETTO:+0930
TZNAME:ACST
DTSTART:20180331T163000
END:STANDARD
BEGIN:DAYLIGHT
TZOFFSETFROM:+0930
TZOFFSETTO:+1030
TZNAME:ACDT
DTSTART:20181006T163000
END:DAYLIGHT
END:VTIMEZONE
BEGIN:VEVENT
DTSTART;TZID=Australia/Adelaide:20180812T140000
DTEND;TZID=Australia/Adelaide:20180812T160000
DTSTAMP:20260425T131832
CREATED:20180718T053335Z
LAST-MODIFIED:20180808T063523Z
UID:1945-1534082400-1534089600@www.aaccsa.org.au
SUMMARY:孩子靈性的建立
DESCRIPTION:孩子靈性的建立\n講員: 屈偉豪博士\n日期: 2018年8月12日 (星期日)\n時間: 下午2-4時\n地點: 澳亞基督教會 \n 
URL:https://www.aaccsa.org.au/event/%e5%ad%a9%e5%ad%90%e9%9d%88%e6%80%a7%e7%9a%84%e5%bb%ba%e7%ab%8b
ATTACH;FMTTYPE=image/jpeg:https://www.aaccsa.org.au/assets/uploads/2018/07/屈偉豪夫婦公開聚會.jpg
END:VEVENT
END:VCALENDAR