BEGIN:VCALENDAR
VERSION:2.0
PRODID:-//澳亞基督教會 Austral-Asian Christian Church - ECPv5.8.2//NONSGML v1.0//EN
CALSCALE:GREGORIAN
METHOD:PUBLISH
X-WR-CALNAME:澳亞基督教會 Austral-Asian Christian Church
X-ORIGINAL-URL:https://www.aaccsa.org.au
X-WR-CALDESC:Events for 澳亞基督教會 Austral-Asian Christian Church
BEGIN:VTIMEZONE
TZID:Australia/Adelaide
BEGIN:STANDARD
TZOFFSETFROM:+1030
TZOFFSETTO:+0930
TZNAME:ACST
DTSTART:20180331T163000
END:STANDARD
BEGIN:DAYLIGHT
TZOFFSETFROM:+0930
TZOFFSETTO:+1030
TZNAME:ACDT
DTSTART:20181006T163000
END:DAYLIGHT
END:VTIMEZONE
BEGIN:VEVENT
DTSTART;TZID=Australia/Adelaide:20181026T190000
DTEND;TZID=Australia/Adelaide:20181026T220000
DTSTAMP:20260425T101053
CREATED:20180831T020356Z
LAST-MODIFIED:20180831T020356Z
UID:2030-1540580400-1540591200@www.aaccsa.org.au
SUMMARY:我們在天上的父 - 培靈音樂會
DESCRIPTION:
URL:https://www.aaccsa.org.au/event/%e6%88%91%e5%80%91%e5%9c%a8%e5%a4%a9%e4%b8%8a%e7%9a%84%e7%88%b6-%e5%9f%b9%e9%9d%88%e9%9f%b3%e6%a8%82%e6%9c%83
LOCATION:基督教安利聖公會\, 183 Unley Road  Unley SA 5061\, Adelaide\, 5061\, 澳大利亞
END:VEVENT
END:VCALENDAR