BEGIN:VCALENDAR
VERSION:2.0
PRODID:-//澳亞基督教會 Austral-Asian Christian Church - ECPv5.8.2//NONSGML v1.0//EN
CALSCALE:GREGORIAN
METHOD:PUBLISH
X-WR-CALNAME:澳亞基督教會 Austral-Asian Christian Church
X-ORIGINAL-URL:https://www.aaccsa.org.au
X-WR-CALDESC:Events for 澳亞基督教會 Austral-Asian Christian Church
BEGIN:VTIMEZONE
TZID:Australia/Adelaide
BEGIN:STANDARD
TZOFFSETFROM:+1030
TZOFFSETTO:+0930
TZNAME:ACST
DTSTART:20180331T163000
END:STANDARD
BEGIN:DAYLIGHT
TZOFFSETFROM:+0930
TZOFFSETTO:+1030
TZNAME:ACDT
DTSTART:20181006T163000
END:DAYLIGHT
END:VTIMEZONE
BEGIN:VEVENT
DTSTART;VALUE=DATE:20181214
DTEND;VALUE=DATE:20181217
DTSTAMP:20260425T083905
CREATED:20180831T030743Z
LAST-MODIFIED:20180831T030808Z
UID:2033-1544745600-1545004799@www.aaccsa.org.au
SUMMARY:华语家庭营
DESCRIPTION:
URL:https://www.aaccsa.org.au/event/%e5%8d%8e%e8%af%ad%e5%ae%b6%e5%ba%ad%e8%90%a5
LOCATION:Adare Camp and Caravan Park\, 20 Wattle Drive\, Victor Harbor SA 5211\, Adelaide\, 5211\, 澳大利亞
END:VEVENT
END:VCALENDAR