BEGIN:VCALENDAR
VERSION:2.0
PRODID:-//澳亞基督教會 Austral-Asian Christian Church - ECPv5.8.2//NONSGML v1.0//EN
CALSCALE:GREGORIAN
METHOD:PUBLISH
X-WR-CALNAME:澳亞基督教會 Austral-Asian Christian Church
X-ORIGINAL-URL:https://www.aaccsa.org.au
X-WR-CALDESC:Events for 澳亞基督教會 Austral-Asian Christian Church
BEGIN:VTIMEZONE
TZID:Australia/Adelaide
BEGIN:STANDARD
TZOFFSETFROM:+1030
TZOFFSETTO:+0930
TZNAME:ACST
DTSTART:20190406T163000
END:STANDARD
BEGIN:DAYLIGHT
TZOFFSETFROM:+0930
TZOFFSETTO:+1030
TZNAME:ACDT
DTSTART:20191005T163000
END:DAYLIGHT
END:VTIMEZONE
BEGIN:VEVENT
DTSTART;TZID=Australia/Adelaide:20190326T190000
DTEND;TZID=Australia/Adelaide:20190326T203000
DTSTAMP:20260425T053237
CREATED:20190218T050020Z
LAST-MODIFIED:20190218T050020Z
UID:2196-1553626800-1553632200@www.aaccsa.org.au
SUMMARY:我要向高山舉目 「生命之道」培靈會
DESCRIPTION:
URL:https://www.aaccsa.org.au/event/%e6%88%91%e8%a6%81%e5%90%91%e9%ab%98%e5%b1%b1%e8%88%89%e7%9b%ae-%e3%80%8c%e7%94%9f%e5%91%bd%e4%b9%8b%e9%81%93%e3%80%8d%e5%9f%b9%e9%9d%88%e6%9c%83
END:VEVENT
END:VCALENDAR