BEGIN:VCALENDAR
VERSION:2.0
PRODID:-//澳亞基督教會 Austral-Asian Christian Church - ECPv5.8.2//NONSGML v1.0//EN
CALSCALE:GREGORIAN
METHOD:PUBLISH
X-WR-CALNAME:澳亞基督教會 Austral-Asian Christian Church
X-ORIGINAL-URL:https://www.aaccsa.org.au
X-WR-CALDESC:Events for 澳亞基督教會 Austral-Asian Christian Church
BEGIN:VTIMEZONE
TZID:Australia/Adelaide
BEGIN:STANDARD
TZOFFSETFROM:+1030
TZOFFSETTO:+0930
TZNAME:ACST
DTSTART:20190406T163000
END:STANDARD
BEGIN:DAYLIGHT
TZOFFSETFROM:+0930
TZOFFSETTO:+1030
TZNAME:ACDT
DTSTART:20191005T163000
END:DAYLIGHT
END:VTIMEZONE
BEGIN:VEVENT
DTSTART;TZID=Australia/Adelaide:20190512T102000
DTEND;TZID=Australia/Adelaide:20190512T112000
DTSTAMP:20260420T222037
CREATED:20190218T054205Z
LAST-MODIFIED:20190218T054205Z
UID:2235-1557656400-1557660000@www.aaccsa.org.au
SUMMARY:宣教祈禱會
DESCRIPTION:
URL:https://www.aaccsa.org.au/event/%e5%ae%a3%e6%95%99%e7%a5%88%e7%a6%b1%e6%9c%83-may
CATEGORIES:宣教祈禱會
END:VEVENT
BEGIN:VEVENT
DTSTART;TZID=Australia/Adelaide:20190512T110000
DTEND;TZID=Australia/Adelaide:20190512T120000
DTSTAMP:20260420T222037
CREATED:20190218T055158Z
LAST-MODIFIED:20190218T055158Z
UID:2245-1557658800-1557662400@www.aaccsa.org.au
SUMMARY:English Prayer Meeting
DESCRIPTION:
URL:https://www.aaccsa.org.au/event/english-prayer-meeting-may
LOCATION:澳亞基督教會 新堂\, 294-300 Morphett Street\, Adelaide\, 5000\, SA\, 澳大利亞
CATEGORIES:English Prayer Meeting
END:VEVENT
END:VCALENDAR