BEGIN:VCALENDAR
VERSION:2.0
PRODID:-//澳亞基督教會 Austral-Asian Christian Church - ECPv5.8.2//NONSGML v1.0//EN
CALSCALE:GREGORIAN
METHOD:PUBLISH
X-WR-CALNAME:澳亞基督教會 Austral-Asian Christian Church
X-ORIGINAL-URL:https://www.aaccsa.org.au
X-WR-CALDESC:Events for 澳亞基督教會 Austral-Asian Christian Church
BEGIN:VTIMEZONE
TZID:Australia/Adelaide
BEGIN:STANDARD
TZOFFSETFROM:+1030
TZOFFSETTO:+0930
TZNAME:ACST
DTSTART:20190406T163000
END:STANDARD
BEGIN:DAYLIGHT
TZOFFSETFROM:+0930
TZOFFSETTO:+1030
TZNAME:ACDT
DTSTART:20191005T163000
END:DAYLIGHT
END:VTIMEZONE
BEGIN:VEVENT
DTSTART;TZID=Australia/Adelaide:20190914T140000
DTEND;TZID=Australia/Adelaide:20190914T180000
DTSTAMP:20260420T165340
CREATED:20190903T022846Z
LAST-MODIFIED:20190903T022846Z
UID:2375-1568469600-1568484000@www.aaccsa.org.au
SUMMARY:中秋同樂日 - 月亮代表我的心
DESCRIPTION:日期: 2019年9月14日\n時間: 14:00-1800\n地點: 澳亞基督教會
URL:https://www.aaccsa.org.au/event/%e4%b8%ad%e7%a7%8b%e5%90%8c%e6%a8%82%e6%97%a5-%e6%9c%88%e4%ba%ae%e4%bb%a3%e8%a1%a8%e6%88%91%e7%9a%84%e5%bf%83
CATEGORIES:特別聚會
END:VEVENT
END:VCALENDAR