BEGIN:VCALENDAR
VERSION:2.0
PRODID:-//澳亞基督教會 Austral-Asian Christian Church - ECPv5.8.2//NONSGML v1.0//EN
CALSCALE:GREGORIAN
METHOD:PUBLISH
X-WR-CALNAME:澳亞基督教會 Austral-Asian Christian Church
X-ORIGINAL-URL:https://www.aaccsa.org.au
X-WR-CALDESC:Events for 澳亞基督教會 Austral-Asian Christian Church
BEGIN:VTIMEZONE
TZID:Australia/Adelaide
BEGIN:STANDARD
TZOFFSETFROM:+1030
TZOFFSETTO:+0930
TZNAME:ACST
DTSTART:20190406T163000
END:STANDARD
BEGIN:DAYLIGHT
TZOFFSETFROM:+0930
TZOFFSETTO:+1030
TZNAME:ACDT
DTSTART:20191005T163000
END:DAYLIGHT
END:VTIMEZONE
BEGIN:VEVENT
DTSTART;TZID=Australia/Adelaide:20191020T102000
DTEND;TZID=Australia/Adelaide:20191020T112000
DTSTAMP:20260420T154109
CREATED:20190218T053558Z
LAST-MODIFIED:20190218T053558Z
UID:2228-1571566800-1571570400@www.aaccsa.org.au
SUMMARY:華語祈禱會
DESCRIPTION:
URL:https://www.aaccsa.org.au/event/%e8%8f%af%e8%aa%9e%e7%a5%88%e7%a6%b1%e6%9c%83-oct
CATEGORIES:華語祈禱會
END:VEVENT
END:VCALENDAR