BEGIN:VCALENDAR
VERSION:2.0
PRODID:-//澳亞基督教會 Austral-Asian Christian Church - ECPv5.8.2//NONSGML v1.0//EN
CALSCALE:GREGORIAN
METHOD:PUBLISH
X-WR-CALNAME:澳亞基督教會 Austral-Asian Christian Church
X-ORIGINAL-URL:https://www.aaccsa.org.au
X-WR-CALDESC:Events for 澳亞基督教會 Austral-Asian Christian Church
BEGIN:VTIMEZONE
TZID:Australia/Adelaide
BEGIN:STANDARD
TZOFFSETFROM:+1030
TZOFFSETTO:+0930
TZNAME:ACST
DTSTART:20200404T163000
END:STANDARD
BEGIN:DAYLIGHT
TZOFFSETFROM:+0930
TZOFFSETTO:+1030
TZNAME:ACDT
DTSTART:20201003T163000
END:DAYLIGHT
END:VTIMEZONE
BEGIN:VEVENT
DTSTART;VALUE=DATE:20201003
DTEND;VALUE=DATE:20201005
DTSTAMP:20260421T191738
CREATED:20200915T024712Z
LAST-MODIFIED:20200915T024712Z
UID:3047-1601683200-1601855999@www.aaccsa.org.au
SUMMARY:Naracoorte 同慶中秋兒童嘉年華
DESCRIPTION:
URL:https://www.aaccsa.org.au/event/naracoorte-%e5%90%8c%e6%85%b6%e4%b8%ad%e7%a7%8b%e5%85%92%e7%ab%a5%e5%98%89%e5%b9%b4%e8%8f%af
CATEGORIES:特別聚會
END:VEVENT
END:VCALENDAR