BEGIN:VCALENDAR
VERSION:2.0
PRODID:-//澳亞基督教會 Austral-Asian Christian Church - ECPv5.8.2//NONSGML v1.0//EN
CALSCALE:GREGORIAN
METHOD:PUBLISH
X-WR-CALNAME:澳亞基督教會 Austral-Asian Christian Church
X-ORIGINAL-URL:https://www.aaccsa.org.au
X-WR-CALDESC:Events for 澳亞基督教會 Austral-Asian Christian Church
BEGIN:VTIMEZONE
TZID:Australia/Adelaide
BEGIN:STANDARD
TZOFFSETFROM:+1030
TZOFFSETTO:+0930
TZNAME:ACST
DTSTART:20200404T163000
END:STANDARD
BEGIN:DAYLIGHT
TZOFFSETFROM:+0930
TZOFFSETTO:+1030
TZNAME:ACDT
DTSTART:20201003T163000
END:DAYLIGHT
END:VTIMEZONE
BEGIN:VEVENT
DTSTART;VALUE=DATE:20201020
DTEND;VALUE=DATE:20201023
DTSTAMP:20260421T191017
CREATED:20200915T023459Z
LAST-MODIFIED:20200915T024242Z
UID:3034-1603152000-1603411199@www.aaccsa.org.au
SUMMARY:常青春令營
DESCRIPTION:主題: 金齡銀髮一家親 \n日期: 2020年10月20-22日 \n地點: McCraken Country Club\, McCraken Drive\, Victor Harvour\, SA 5211 \n費用: $320 (包括 6 餐\, 2 晚住宿 (單人床) \, 2 早靈修\, 2 晚信息\, 1 日分享會+ Victor Harbour 一日游 + 來回交通)\nEarly Bird (8月30日前報名) 優惠價: $290 \n截止日期: 9月10日 \n報名: 梁雪雯姊妹 (0433365876)
URL:https://www.aaccsa.org.au/event/%e5%b8%b8%e9%9d%92%e6%98%a5%e4%bb%a4%e7%87%9f
LOCATION:McCraken Country Club\, McCracken Drive\, Victor Harbour\, South Australia\, 5211\, Australia
CATEGORIES:特別聚會
END:VEVENT
END:VCALENDAR