BEGIN:VCALENDAR
VERSION:2.0
PRODID:-//澳亞基督教會 Austral-Asian Christian Church - ECPv5.8.2//NONSGML v1.0//EN
CALSCALE:GREGORIAN
METHOD:PUBLISH
X-WR-CALNAME:澳亞基督教會 Austral-Asian Christian Church
X-ORIGINAL-URL:https://www.aaccsa.org.au
X-WR-CALDESC:Events for 澳亞基督教會 Austral-Asian Christian Church
BEGIN:VTIMEZONE
TZID:Australia/Adelaide
BEGIN:STANDARD
TZOFFSETFROM:+1030
TZOFFSETTO:+0930
TZNAME:ACST
DTSTART:20200404T163000
END:STANDARD
BEGIN:DAYLIGHT
TZOFFSETFROM:+0930
TZOFFSETTO:+1030
TZNAME:ACDT
DTSTART:20201003T163000
END:DAYLIGHT
END:VTIMEZONE
BEGIN:VEVENT
DTSTART;TZID=Australia/Adelaide:20201025T140000
DTEND;TZID=Australia/Adelaide:20201025T160000
DTSTAMP:20260421T191738
CREATED:20200915T024441Z
LAST-MODIFIED:20200915T024441Z
UID:3042-1603634400-1603641600@www.aaccsa.org.au
SUMMARY:浸禮
DESCRIPTION:
URL:https://www.aaccsa.org.au/event/%e6%b5%b8%e7%a6%ae
END:VEVENT
END:VCALENDAR